BEGIN:VCALENDAR
VERSION:2.0
PRODID:-//IOTA Institute - ECPv5.14.0.1//NONSGML v1.0//EN
CALSCALE:GREGORIAN
METHOD:PUBLISH
X-WR-CALNAME:IOTA Institute
X-ORIGINAL-URL:https://iotainstitute.com
X-WR-CALDESC:Events for IOTA Institute
BEGIN:VTIMEZONE
TZID:America/Halifax
BEGIN:DAYLIGHT
TZOFFSETFROM:-0400
TZOFFSETTO:-0300
TZNAME:ADT
DTSTART:20230312T060000
END:DAYLIGHT
BEGIN:STANDARD
TZOFFSETFROM:-0300
TZOFFSETTO:-0400
TZNAME:AST
DTSTART:20231105T050000
END:STANDARD
END:VTIMEZONE
BEGIN:VEVENT
DTSTART;VALUE=DATE:20231027
DTEND;VALUE=DATE:20231114
DTSTAMP:20260419T163853
CREATED:20250225T182116Z
LAST-MODIFIED:20250225T183014Z
UID:9438-1698364800-1699919999@iotainstitute.com
SUMMARY:Art Toronto
DESCRIPTION:We are thrilled to announce that IOTA will make its art fair debut a part of Art Toronto 2023. \nCome visit us at booth A50 from October 26th-29th 2023\, featuring the works of: Amanda Dawn Christie\, Amy Malbeuf\, Carrie Allison\, Jennifer Willet\, Jerry Evans\, Jordan Bennett\, Lou Sheppard\, Ruth Marsh\, and Séamus Gallagher. \nView full collection of artworks on view here.
URL:https://iotainstitute.com/event/art-toronto/
LOCATION:Metro Toronto Convention Centre North Building\, 255 Front St W\, Toronto\, ON\, Canada
CATEGORIES:Exhibition,Pop Up Gallery
ATTACH;FMTTYPE=image/jpeg:https://iotainstitute.com/wp-content/uploads/2023/11/PXL_20231026_174755535-scaled.jpg
END:VEVENT
END:VCALENDAR