BEGIN:VCALENDAR
VERSION:2.0
PRODID:-//IOTA Institute - ECPv5.14.0.1//NONSGML v1.0//EN
CALSCALE:GREGORIAN
METHOD:PUBLISH
X-WR-CALNAME:IOTA Institute
X-ORIGINAL-URL:https://iotainstitute.com
X-WR-CALDESC:Events for IOTA Institute
BEGIN:VTIMEZONE
TZID:America/Halifax
BEGIN:DAYLIGHT
TZOFFSETFROM:-0400
TZOFFSETTO:-0300
TZNAME:ADT
DTSTART:20250309T060000
END:DAYLIGHT
BEGIN:STANDARD
TZOFFSETFROM:-0300
TZOFFSETTO:-0400
TZNAME:AST
DTSTART:20251102T050000
END:STANDARD
END:VTIMEZONE
BEGIN:VEVENT
DTSTART;TZID=America/Halifax:20250723T200000
DTEND;TZID=America/Halifax:20250726T210000
DTSTAMP:20260421T022734
CREATED:20250521T172139Z
LAST-MODIFIED:20250521T172139Z
UID:9622-1753300800-1753563600@iotainstitute.com
SUMMARY:Requiem for Radio: Full Quiet Flutter (RFR: FQF) at National Arts Centre
DESCRIPTION:IOTA is excited to announce a new tour with the artist Amanda Dawn Christie\, Requiem for Radio: Full Quiet Flutter (RFR: FQF)\, which will travel to the National Arts Centre (Ottawa\, ON). This project is supported by the New Brunswick Arts Board\, Canada Council for the Arts\, the National Arts Centre\, Aberdeen Cultural Centre\, and RE:FLUX Experimental Music and Sound Art Festival. \n\nNational Art Centre (Ottawa\, ON)\nAzrieli Studio — July 23 – 26\, 2025 (showtimes at 4pm and 8pm EST)\nTickets: $25 for General Admission; $15 for audiences under 30\, Indigenous audiences\, wheelchair users & companions.\n\n\n\n\nCLICK HERE to see full project details and ticket information.
URL:https://iotainstitute.com/event/requiem-for-radio-full-quiet-flutter-rfr-fqf-at-national-arts-centre/
LOCATION:National Arts Centre\, 1 Elgin St\, Ottawa\, ON\, K1P 5W1\, Canada
CATEGORIES:Performance
ATTACH;FMTTYPE=image/jpeg:https://iotainstitute.com/wp-content/uploads/2025/05/dressrehearsal_RFR-112.jpg
END:VEVENT
END:VCALENDAR