BEGIN:VCALENDAR
VERSION:2.0
PRODID:-//IOTA Institute - ECPv5.14.0.1//NONSGML v1.0//EN
CALSCALE:GREGORIAN
METHOD:PUBLISH
X-WR-CALNAME:IOTA Institute
X-ORIGINAL-URL:https://iotainstitute.com
X-WR-CALDESC:Events for IOTA Institute
BEGIN:VTIMEZONE
TZID:America/Halifax
BEGIN:DAYLIGHT
TZOFFSETFROM:-0400
TZOFFSETTO:-0300
TZNAME:ADT
DTSTART:20190310T060000
END:DAYLIGHT
BEGIN:STANDARD
TZOFFSETFROM:-0300
TZOFFSETTO:-0400
TZNAME:AST
DTSTART:20191103T050000
END:STANDARD
END:VTIMEZONE
BEGIN:VEVENT
DTSTART;TZID=America/Halifax:20190530T150000
DTEND;TZID=America/Halifax:20190621T200000
DTSTAMP:20260423T171906
CREATED:20190630T003058Z
LAST-MODIFIED:20190630T003939Z
UID:1306-1559228400-1561147200@iotainstitute.com
SUMMARY:Performance + Interactive Public Exhibition: StickMan by Stelarc
DESCRIPTION:IOTA features Stelarc’s StickMan/miniStickMan. \nStickMan/miniStickMan is a minimal but full-body exoskeleton that algorithmically actuates the artist with six degrees-of-freedom. \nSixty-four possible combinations of gestures are generated. Sensors on StickMan generate sounds that augment the pneumatic noise and register the limb movements. \nDurational performance 3:00-7:00pm\, followed by the closing reception of the Bio Art Series from 7:00-8:00pm. \nMORE INFORMATION: \nThis event is free and open to everyone.\nThe venue is fully accessible.\nThe exhibition runs from May 30 – June 21 (Wed through Sat\, noon to 5pm\, Thursday 2pm to 7pm) \nABOUT THE ARTIST: \nStelarc is a performance artist who has visually probed and acoustically amplified his body. He has made three films of the inside of his body. Between 1976-1988 he completed 26 body suspension performances with hooks into the skin. He has used medical instruments\, prosthetics\, robotics\, Virtual Reality systems\, the Internet and biotechnology to engineer intimate and involuntary interfaces with the body. \nABOUT IOTA’S BIO ART SERIES: \nImmerse your senses in the transcendent discipline of Bio Art. IOTA’s Bio Art Series continues this spring with a collection of talks\, workshops\, and exhibitions designed to bring Bio Art into public and accessible forums. Get curious and explore artistic and research practices\, interdisciplinary challenges\, and the social implications of Bio Art through this free series of events running in May 2019. \nIOTA acknowledges the support of the Canada Council for the Arts\, Tell Tale Productions\, and Ground Sound.
URL:https://iotainstitute.com/event/performance-interactive-public-exhibition-stickman-by-stelarc/
LOCATION:Tell Tale Productions\, 5562 Cornwallis\, Halifax\, NS\, B3K 1B4\, Canada
CATEGORIES:Exhibition,Performance
ATTACH;FMTTYPE=image/jpeg:https://iotainstitute.com/wp-content/uploads/2019/06/StelarcEvent.jpg
END:VEVENT
END:VCALENDAR