BEGIN:VCALENDAR
VERSION:2.0
PRODID:-//IOTA Institute - ECPv5.14.0.1//NONSGML v1.0//EN
CALSCALE:GREGORIAN
METHOD:PUBLISH
X-WR-CALNAME:IOTA Institute
X-ORIGINAL-URL:https://iotainstitute.com
X-WR-CALDESC:Events for IOTA Institute
BEGIN:VTIMEZONE
TZID:America/Halifax
BEGIN:DAYLIGHT
TZOFFSETFROM:-0400
TZOFFSETTO:-0300
TZNAME:ADT
DTSTART:20190310T060000
END:DAYLIGHT
BEGIN:STANDARD
TZOFFSETFROM:-0300
TZOFFSETTO:-0400
TZNAME:AST
DTSTART:20191103T050000
END:STANDARD
END:VTIMEZONE
BEGIN:VEVENT
DTSTART;TZID=America/Halifax:20190529T190000
DTEND;TZID=America/Halifax:20190529T210000
DTSTAMP:20260423T200042
CREATED:20190630T002538Z
LAST-MODIFIED:20190630T002538Z
UID:1303-1559156400-1559163600@iotainstitute.com
SUMMARY:Artist Talk: Stelarc + Andrew Pelling
DESCRIPTION:Get curious about Bio Art with two of the most prolific artists in the field. Artists\, Stelarc and Andrew Pelling will present a talk on recent works. \nContestable Chimeras: Prosthetic\, Fractal and Phantom Flesh\, with Stelarc \nThe body is an unstable construct\, increasingly oscillating between its physical and phantom forms. This quickening of oscillation generates a haptic thickening that collapses the distinction between the actual and the virtual. The physical fades and phantoms become phantom limbs. \nBuilding Augmented Living Systems from Trash\, Spare Parts and Biology\, with Andrew Pelling \nThe Pelling Lab at the University of Ottawa is a curiosity-driven research space that brings together Artists\, Scientists\, Social Scientists and Engineers. The lab uses low-cost materials and methods to explore speculative living technologies of the future. \nThe Lab’s work has led to discoveries which include the use of plants to grow human body parts\, the creation of living skins on LEGO mini-figures\, and scientific equipment built from garbage. \nRoom: Paul O’Regan Hall \nMORE INFORMATION: \nThis event is free and open to everyone.\nThe venue is fully accessible. \nABOUT THE ARTISTS: \nStelarc is a performance artist who has visually probed and acoustically amplified his body. He has made three films of the inside of his body. Between 1976-1988 he completed 26 body suspension performances with hooks into the skin. \nAndrew Pelling is a Professor at the University of Ottawa\, where he founded and directs a curiosity-driven research lab that brings together Artists\, Scientists\, Social Scientists and Engineers. \nABOUT IOTA’S BIO ART SERIES: \nImmerse your senses in the transcendent discipline of Bio Art. IOTA’s Bio Art Series continues this spring with a collection of talks\, workshops\, and exhibitions designed to bring Bio Art into public and accessible forums. Get curious and explore artistic and research practices\, interdisciplinary challenges\, and the social implications of Bio Art through this free series of events running in May 2019. \nIOTA acknowledges the support of the Canada Council for the Arts and Halifax Public Libraries.
URL:https://iotainstitute.com/event/artist-talk-stelarc-andrew-pelling/
LOCATION:Halifax Public Library\, 5440 Spring Garden Rd.\, Halifax\, Nova Scotia\, Canada
CATEGORIES:Artist Talk
ATTACH;FMTTYPE=image/jpeg:https://iotainstitute.com/wp-content/uploads/2019/06/StelarcAndrew.jpg
END:VEVENT
END:VCALENDAR