BEGIN:VCALENDAR
VERSION:2.0
PRODID:-//IOTA Institute - ECPv5.14.0.1//NONSGML v1.0//EN
CALSCALE:GREGORIAN
METHOD:PUBLISH
X-WR-CALNAME:IOTA Institute
X-ORIGINAL-URL:https://iotainstitute.com
X-WR-CALDESC:Events for IOTA Institute
BEGIN:VTIMEZONE
TZID:America/Halifax
BEGIN:DAYLIGHT
TZOFFSETFROM:-0400
TZOFFSETTO:-0300
TZNAME:ADT
DTSTART:20190310T060000
END:DAYLIGHT
BEGIN:STANDARD
TZOFFSETFROM:-0300
TZOFFSETTO:-0400
TZNAME:AST
DTSTART:20191103T050000
END:STANDARD
END:VTIMEZONE
BEGIN:VEVENT
DTSTART;TZID=America/Halifax:20190527T173000
DTEND;TZID=America/Halifax:20190527T203000
DTSTAMP:20260423T184029
CREATED:20190630T002114Z
LAST-MODIFIED:20190630T002114Z
UID:1299-1558978200-1558989000@iotainstitute.com
SUMMARY:Public Exhibit + Artist Talk: Nina Sellars and Jennifer Willet
DESCRIPTION:Artist\, Jennifer Willet will exhibit Untitled: Travelling Laboratory Coat\, a custom garment that has literally and metaphorically accrued layers of meaning and microbes as it moves through representation\, performance\, space\, and time. Get curious about the futility of attempting to control microscopic life forms as they travel through our bodies and environments. \nArtist\, Nina Sellars will challenge our normative frames of reference as it relates to anatomy with Sentinels. This Bio Art installation is designed to question the cultural and scientific implications of the relative absence of fat in the history of anatomy and the significance for contemporary debates about the human\, the non-human\, and the posthuman. \nThe exhibition will run 5:30-7:00pm\, followed by an Artist Talk by Jennifer Willet at the Art Bar from 7:15-8:30pm. \nMORE INFORMATION: \nThis event is free and open to everyone\nThis exhibit will run May 27- June 1\nThe venue is accessible\, but there are some limitations. More information here: http://theanna.nscad.ca/about/\nPlease note: ASL services will be present at the artist talk \nABOUT THE ARTISTS: \nNina Sellars arts practice hybridizes the disciplines of art\, science and humanities and focuses on the contemporary and historical influence of anatomy on our understanding of the body\, identity and subjectivity. Classically trained in drawing and photography\, her artwork now extends into tissue engineering and light installations; as her interest in anatomy has taken her from working in art studios and anatomy and biology labs to working in physics labs and medical imaging facilities—here she critically engages with the cultural implications of anatomy. \nDr. Jennifer Willet is artist\, curator\, and leader in the field of Bio Art. She is a Canada Research Chair in Art\, Science\, and Ecology and a professor in Creative Arts at the University of Windsor. Dr. Willet is also the director of INCUBATOR Lab—a BSL2 Bio Art teaching and research facility in Windsor. Her work resides at the intersection of art and science and interspecies interrelations in the biotechnological field. \nABOUT IOTA’S BIO ART SERIES: \nImmerse your senses in the transcendent discipline of Bio Art. IOTA’s Bio Art Series continues this spring with a collection of talks\, workshops\, and exhibitions designed to bring Bio Art into public and accessible forums. Get curious and explore artistic and research practices\, interdisciplinary challenges\, and the social implications of Bio Art through this free series of events running in May 2019. \nIOTA acknowledges the support of the Canada Council for the Arts\, NSCAD\, and the Anna Leonowens Gallery.
URL:https://iotainstitute.com/event/public-exhibit-artist-talk-nina-sellars-and-jennifer-willet/
LOCATION:Anna Leonowens Gallery\, 1891 Granville St.\, Halifax\, NS\, B3J 3J6\, Canada
CATEGORIES:Artist Talk,Exhibition,Performance
ATTACH;FMTTYPE=image/jpeg:https://iotainstitute.com/wp-content/uploads/2019/06/NinaJennifer.jpg
END:VEVENT
END:VCALENDAR