BEGIN:VCALENDAR
VERSION:2.0
PRODID:-//IOTA Institute - ECPv5.14.0.1//NONSGML v1.0//EN
CALSCALE:GREGORIAN
METHOD:PUBLISH
X-WR-CALNAME:IOTA Institute
X-ORIGINAL-URL:https://iotainstitute.com
X-WR-CALDESC:Events for IOTA Institute
BEGIN:VTIMEZONE
TZID:America/Halifax
BEGIN:DAYLIGHT
TZOFFSETFROM:-0400
TZOFFSETTO:-0300
TZNAME:ADT
DTSTART:20190310T060000
END:DAYLIGHT
BEGIN:STANDARD
TZOFFSETFROM:-0300
TZOFFSETTO:-0400
TZNAME:AST
DTSTART:20191103T050000
END:STANDARD
END:VTIMEZONE
BEGIN:VEVENT
DTSTART;TZID=America/Halifax:20190515T173000
DTEND;TZID=America/Halifax:20190515T194500
DTSTAMP:20260423T212455
CREATED:20190629T232137Z
LAST-MODIFIED:20190629T232137Z
UID:1291-1557941400-1557949500@iotainstitute.com
SUMMARY:Cyberhive: Immersive Film Screening
DESCRIPTION:This immersive experience created by Ruth Marsh is a stop-motion\, 360-degree video with original music and sound design by Jeremy Costello. \nThe presentation will invite viewers to enter into a technologically altered\, large-scale beehive. \nOriginally created through an IOTA residency for the Seadome (Halifax NS)\, this cinematic experience will run at Discovery Centre every Wednesday at 5:15pm\, May 15-June 12\, 2019. \nAn artist talk and Q&A with Ruth Marsh will be held at 6:30-7:30pm. \nRuntime: 15 minutes; 5 screenings running every 30 minutes \nMORE INFORMATION:\nThis event is free and open to everyone.\nThe venue is fully accessible. \nABOUT THE ARTIST:\nRuth is a Canadian multidisciplinary artist of settler ancestry based out of Kjipuktuk\,(Halifax\, NS\, Canada). Her practice employs an absurdist approach which seeks to queer the intersections between DIY culture\, art making\, and science fact/fiction/fabulation to address memory\, healing\, and cybernetic interconnection in both bodies and environments. She approaches her practice from a perspective which is part mad scientist and part devoted repair technician and through processes which are inherently labour intensive\, repetitive\, and painstaking. She is interested in playfully exploring the ways in which modalities of labour can translate into a study of both enacted care and hopeful mourning. \nABOUT IOTA’S BIO ART SERIES:\nImmerse your senses in the transcendent discipline of Bio Art. IOTA’s Bio Art Series continues this spring with a collection of talks\, workshops\, and exhibitions designed to bring Bio Art into public and accessible forums. Get curious and explore artistic and research practices\, interdisciplinary challenges\, and the social implications of Bio Art through this free series of events running in May 2019. \nIOTA acknowledges the support of the Canada Council for the Arts.
URL:https://iotainstitute.com/event/cyberhive-immersive-film-screening/
LOCATION:Discovery Centre\, 1215 Lower Water Street\, Halifax\, NS\, B3J 3S8\, Canada
CATEGORIES:Artist Talk,Film Screening
ATTACH;FMTTYPE=image/jpeg:https://iotainstitute.com/wp-content/uploads/2019/06/beepre-0002-scaled.jpg
END:VEVENT
END:VCALENDAR