BEGIN:VCALENDAR
VERSION:2.0
PRODID:-//IOTA Institute - ECPv5.14.0.1//NONSGML v1.0//EN
CALSCALE:GREGORIAN
METHOD:PUBLISH
X-WR-CALNAME:IOTA Institute
X-ORIGINAL-URL:https://iotainstitute.com
X-WR-CALDESC:Events for IOTA Institute
BEGIN:VTIMEZONE
TZID:America/Halifax
BEGIN:DAYLIGHT
TZOFFSETFROM:-0400
TZOFFSETTO:-0300
TZNAME:ADT
DTSTART:20180311T060000
END:DAYLIGHT
BEGIN:STANDARD
TZOFFSETFROM:-0300
TZOFFSETTO:-0400
TZNAME:AST
DTSTART:20181104T050000
END:STANDARD
END:VTIMEZONE
BEGIN:VEVENT
DTSTART;TZID=America/Halifax:20181003T193000
DTEND;TZID=America/Halifax:20181003T203000
DTSTAMP:20260424T110414
CREATED:20190629T223744Z
LAST-MODIFIED:20190629T223744Z
UID:1276-1538595000-1538598600@iotainstitute.com
SUMMARY:Cyberhive Premier Screening
DESCRIPTION:This Immersive Experience created by Ruth Marsh is a 15-min stop-motion\, 360 degree video with original music and sound design by Jeremy Costello. The presentation will invite viewers to enter into a technologically altered\, large-scale beehive. The new work is presented by IOTA Institute and was supported via a 2-month artist residency in the Seadome. \nThe artist will be engaging the audience in a Q and A after the screening with her collaborators musician Jeremy Costello and technical mentor Nick Iwaskow. \nMORE INFORMATION \nRuth Marsh is a Canadian multidisciplinary artist of settler ancestry based out of Kjipuktuk (Halifax\, NS\, Canada). Her work employs an absurdist and often comically deadpan approach to address absence\, longing\, memory and healing both in bodies and environments. She is interested in exploring the ways in which modalities of labour can translate into enacted care: exertion as meditation\, repetition as litany\, effort over time as love. \nPurchase your tickets online through Ticket Halifax. Scoop them up now! Limited seating! \nThe Sea Dome is wheelchair accessible. All entrances and exits can accommodate wheelchairs and other personal mobility devices. \nThe dome has individual padded seating and the video’s soundscape is audible via a headset handed out to each audience member prior to the screening.
URL:https://iotainstitute.com/event/cyberhive-premier-screening/
LOCATION:Halifax Seadome\, 1675 Lower Water St.\, Halifax\, Nova Scotia\, Canada
CATEGORIES:World Premier Screening
ATTACH;FMTTYPE=image/jpeg:https://iotainstitute.com/wp-content/uploads/2019/04/54512249_304655393563458_110759535664319399_n.jpg
END:VEVENT
END:VCALENDAR